BEGIN:VCALENDAR
VERSION:2.0
PRODID:-//wp-events-plugin.com//7.2.3.1//EN
TZID:Asia/Tokyo
X-WR-TIMEZONE:Asia/Tokyo
BEGIN:VEVENT
UID:3@dy-school-rain.com
DTSTART;TZID=Asia/Tokyo:20250401T165000
DTEND;TZID=Asia/Tokyo:20250401T175000
DTSTAMP:20250330T044624Z
URL:https://dy-school-rain.com/events/k-pop/
SUMMARY:K-POP入門
DESCRIPTION:
END:VEVENT
BEGIN:VTIMEZONE
TZID:Asia/Tokyo
X-LIC-LOCATION:Asia/Tokyo
BEGIN:STANDARD
DTSTART:20240401T165000
TZOFFSETFROM:+0900
TZOFFSETTO:+0900
TZNAME:JST
END:STANDARD
END:VTIMEZONE
END:VCALENDAR